BEGIN:VCALENDAR
VERSION:2.0
PRODID:spatie/icalendar-generator
DESCRIPTION:Events from Los Rios College Federation of Teachers
X-WR-CALDESC:Events from Los Rios College Federation of Teachers
REFRESH-INTERVAL;VALUE=DURATION:PT1440M
X-PUBLISHED-TTL:PT1440M
BEGIN:VTIMEZONE
TZID:America/Los_Angeles
BEGIN:STANDARD
DTSTART:20251102T020000Z
TZOFFSETFROM:-0700
TZOFFSETTO:-0800
END:STANDARD
BEGIN:DAYLIGHT
DTSTART:20260308T020000Z
TZOFFSETFROM:-0800
TZOFFSETTO:-0700
END:DAYLIGHT
BEGIN:STANDARD
DTSTART:20261101T020000Z
TZOFFSETFROM:-0700
TZOFFSETTO:-0800
END:STANDARD
END:VTIMEZONE
BEGIN:VTIMEZONE
TZID:UTC
BEGIN:STANDARD
DTSTART:20250728T160827Z
TZOFFSETFROM:+0000
TZOFFSETTO:+0000
END:STANDARD
END:VTIMEZONE
BEGIN:VEVENT
UID:200-53
DTSTAMP:20260424T160827Z
SUMMARY:Contract Education Series
LOCATION:https://lrccd.zoom.us/j/86119781275
ORGANIZER;CN=Robyn Waxman:MAILTO:waxmanr@scc.losrios.edu
DTSTART;TZID=America/Los_Angeles:20260528T120000
DTEND;TZID=America/Los_Angeles:20260528T133000
X-ALT-DESC;FMTTYPE=TEXT/HTML:Topics will include: Performance review and ev
 aluation\, workload and assignments\, leaves and professional development\
 , student evaluations\, timelines and due process\, hiring\, compensation\
 , and faculty rights and responsibilities.
CATEGORIES:General
URL;VALUE=URI:https://www.lrcft.org/mc-events/contract-education-series/
METHOD:PUBLISH
END:VEVENT
END:VCALENDAR