BEGIN:VCALENDAR
VERSION:2.0
PRODID:spatie/icalendar-generator
DESCRIPTION:Events from Los Rios College Federation of Teachers
X-WR-CALDESC:Events from Los Rios College Federation of Teachers
REFRESH-INTERVAL;VALUE=DURATION:PT1440M
X-PUBLISHED-TTL:PT1440M
BEGIN:VTIMEZONE
TZID:America/Los_Angeles
BEGIN:DAYLIGHT
DTSTART:20260308T020000Z
TZOFFSETFROM:-0800
TZOFFSETTO:-0700
END:DAYLIGHT
BEGIN:STANDARD
DTSTART:20261101T020000Z
TZOFFSETFROM:-0700
TZOFFSETTO:-0800
END:STANDARD
BEGIN:DAYLIGHT
DTSTART:20270314T020000Z
TZOFFSETFROM:-0800
TZOFFSETTO:-0700
END:DAYLIGHT
END:VTIMEZONE
BEGIN:VTIMEZONE
TZID:UTC
BEGIN:STANDARD
DTSTART:20250728T161235Z
TZOFFSETFROM:+0000
TZOFFSETTO:+0000
END:STANDARD
END:VTIMEZONE
BEGIN:VEVENT
UID:31-2
DTSTAMP:20260424T161235Z
SUMMARY:Executive Board Meetings
LOCATION:Union Hall  2126 K Street  Sacramento CA 95816
ORGANIZER;CN=Reina:MAILTO:reina@lrcft.org
RRULE:FREQ=MONTHLY;BYDAY=3WE;UNTIL=20300403T000000Z
DTSTART;TZID=America/Los_Angeles:20260916T150000
DTEND;TZID=America/Los_Angeles:20260916T170000
X-ALT-DESC;FMTTYPE=TEXT/HTML:We meet at our Union Hall (2126 K St) from 3
 –5pm to discuss and vote on issues related to the faculty workplace.
CATEGORIES:General
URL;VALUE=URI:https://www.lrcft.org/mc-events/executive-board-meetings/?mc_
 id=31
METHOD:PUBLISH
END:VEVENT
END:VCALENDAR