BEGIN:VCALENDAR
VERSION:2.0
PRODID:spatie/icalendar-generator
DESCRIPTION:Events from Los Rios College Federation of Teachers
X-WR-CALDESC:Events from Los Rios College Federation of Teachers
REFRESH-INTERVAL;VALUE=DURATION:PT1440M
X-PUBLISHED-TTL:PT1440M
BEGIN:VTIMEZONE
TZID:America/Los_Angeles
BEGIN:STANDARD
DTSTART:20251102T020000Z
TZOFFSETFROM:-0700
TZOFFSETTO:-0800
END:STANDARD
BEGIN:DAYLIGHT
DTSTART:20260308T020000Z
TZOFFSETFROM:-0800
TZOFFSETTO:-0700
END:DAYLIGHT
END:VTIMEZONE
BEGIN:VTIMEZONE
TZID:UTC
BEGIN:STANDARD
DTSTART:20250728T155615Z
TZOFFSETFROM:+0000
TZOFFSETTO:+0000
END:STANDARD
END:VTIMEZONE
BEGIN:VEVENT
UID:196-49
DTSTAMP:20260424T155615Z
SUMMARY:Member Meeting
LOCATION:https://zoom.us/j/96913720650?pwd=ubX3Yub1vrBSadxiRyIInS7wVQ0uq4.1
ORGANIZER;CN=Robyn Waxman:MAILTO:waxmanr@scc.losrios.edu
DTSTART;TZID=America/Los_Angeles:20260414T120000
DTEND;TZID=America/Los_Angeles:20260414T130000
X-ALT-DESC;FMTTYPE=TEXT/HTML:Retro &amp;amp\; Representation (stewards network)
CATEGORIES:General
URL;VALUE=URI:https://www.lrcft.org/mc-events/member-meeting-2/
METHOD:PUBLISH
END:VEVENT
END:VCALENDAR