BEGIN:VCALENDAR
VERSION:2.0
PRODID:spatie/icalendar-generator
DESCRIPTION:Events from Los Rios College Federation of Teachers
X-WR-CALDESC:Events from Los Rios College Federation of Teachers
REFRESH-INTERVAL;VALUE=DURATION:PT1440M
X-PUBLISHED-TTL:PT1440M
BEGIN:VTIMEZONE
TZID:America/Los_Angeles
BEGIN:STANDARD
DTSTART:20251102T020000Z
TZOFFSETFROM:-0700
TZOFFSETTO:-0800
END:STANDARD
BEGIN:DAYLIGHT
DTSTART:20260308T020000Z
TZOFFSETFROM:-0800
TZOFFSETTO:-0700
END:DAYLIGHT
BEGIN:STANDARD
DTSTART:20261101T020000Z
TZOFFSETFROM:-0700
TZOFFSETTO:-0800
END:STANDARD
END:VTIMEZONE
BEGIN:VTIMEZONE
TZID:UTC
BEGIN:STANDARD
DTSTART:20250728T161154Z
TZOFFSETFROM:+0000
TZOFFSETTO:+0000
END:STANDARD
END:VTIMEZONE
BEGIN:VEVENT
UID:193-47
DTSTAMP:20260424T161154Z
SUMMARY:First Friday Union Happy Hour
LOCATION:Oak Park Brewery 3514 Broadway  Sacramento CA 95817
ORGANIZER;CN=Robyn Waxman:MAILTO:waxmanr@scc.losrios.edu
DTSTART;TZID=America/Los_Angeles:20260501T140000
DTEND;TZID=America/Los_Angeles:20260501T160000
X-ALT-DESC;FMTTYPE=TEXT/HTML:A casual space to connect\, decompress\, and b
 uild community (plus one free drink)
CATEGORIES:General
URL;VALUE=URI:https://www.lrcft.org/mc-events/first-friday-union-happy-hour
 -3/
METHOD:PUBLISH
END:VEVENT
END:VCALENDAR