BEGIN:VCALENDAR
VERSION:2.0
PRODID:spatie/icalendar-generator
DESCRIPTION:Events from Los Rios College Federation of Teachers
X-WR-CALDESC:Events from Los Rios College Federation of Teachers
REFRESH-INTERVAL;VALUE=DURATION:PT1440M
X-PUBLISHED-TTL:PT1440M
BEGIN:VTIMEZONE
TZID:America/Los_Angeles
BEGIN:STANDARD
DTSTART:20251102T020000Z
TZOFFSETFROM:-0700
TZOFFSETTO:-0800
END:STANDARD
BEGIN:DAYLIGHT
DTSTART:20260308T020000Z
TZOFFSETFROM:-0800
TZOFFSETTO:-0700
END:DAYLIGHT
END:VTIMEZONE
BEGIN:VTIMEZONE
TZID:UTC
BEGIN:STANDARD
DTSTART:20250728T160656Z
TZOFFSETFROM:+0000
TZOFFSETTO:+0000
END:STANDARD
END:VTIMEZONE
BEGIN:VEVENT
UID:192-46
DTSTAMP:20260424T160656Z
SUMMARY:First Friday Union Happy Hour
LOCATION:Urban Roots  1322 V St  Sacramento CA 95818
ORGANIZER;CN=Robyn Waxman:MAILTO:waxmanr@scc.losrios.edu
DTSTART;TZID=America/Los_Angeles:20260403T140000
DTEND;TZID=America/Los_Angeles:20260403T160000
X-ALT-DESC;FMTTYPE=TEXT/HTML:A casual space to connect\, decompress\, and b
 uild community (plus one free drink):
CATEGORIES:General
URL;VALUE=URI:https://www.lrcft.org/mc-events/first-friday-union-happy-hour
 -2/
METHOD:PUBLISH
END:VEVENT
END:VCALENDAR