BEGIN:VCALENDAR
VERSION:2.0
PRODID:spatie/icalendar-generator
DESCRIPTION:Events from Los Rios College Federation of Teachers
X-WR-CALDESC:Events from Los Rios College Federation of Teachers
REFRESH-INTERVAL;VALUE=DURATION:PT1440M
X-PUBLISHED-TTL:PT1440M
BEGIN:VTIMEZONE
TZID:America/Los_Angeles
BEGIN:STANDARD
DTSTART:20251102T020000Z
TZOFFSETFROM:-0700
TZOFFSETTO:-0800
END:STANDARD
BEGIN:DAYLIGHT
DTSTART:20260308T020000Z
TZOFFSETFROM:-0800
TZOFFSETTO:-0700
END:DAYLIGHT
END:VTIMEZONE
BEGIN:VTIMEZONE
TZID:UTC
BEGIN:STANDARD
DTSTART:20250728T155553Z
TZOFFSETFROM:+0000
TZOFFSETTO:+0000
END:STANDARD
END:VTIMEZONE
BEGIN:VEVENT
UID:189-43
DTSTAMP:20260424T155553Z
SUMMARY:Lobby Day
LOCATION:
ORGANIZER;CN=Robyn Waxman:MAILTO:waxmanr@scc.losrios.edu
DTSTART;TZID=America/Los_Angeles;VALUE=DATE:20260415
DTEND;TZID=America/Los_Angeles;VALUE=DATE:20260416
X-ALT-DESC;FMTTYPE=TEXT/HTML:Join colleagues from across the state with CFT
  for a day of advocacy at the Capitol. Breakfast and lunch are included\, 
 and it’s a great way to see how our work connects to statewide policy. S
 everal of your SCC LRCFT Team plan to attend\, come with us! More details 
 coming soon.
CATEGORIES:General
URL;VALUE=URI:https://www.lrcft.org/mc-events/lobby-day/
METHOD:PUBLISH
END:VEVENT
END:VCALENDAR