BEGIN:VCALENDAR
VERSION:2.0
PRODID:spatie/icalendar-generator
DESCRIPTION:Events from Los Rios College Federation of Teachers
X-WR-CALDESC:Events from Los Rios College Federation of Teachers
REFRESH-INTERVAL;VALUE=DURATION:PT1440M
X-PUBLISHED-TTL:PT1440M
BEGIN:VTIMEZONE
TZID:America/Los_Angeles
BEGIN:STANDARD
DTSTART:20251102T020000Z
TZOFFSETFROM:-0700
TZOFFSETTO:-0800
END:STANDARD
BEGIN:DAYLIGHT
DTSTART:20260308T020000Z
TZOFFSETFROM:-0800
TZOFFSETTO:-0700
END:DAYLIGHT
END:VTIMEZONE
BEGIN:VTIMEZONE
TZID:UTC
BEGIN:STANDARD
DTSTART:20250728T155204Z
TZOFFSETFROM:+0000
TZOFFSETTO:+0000
END:STANDARD
END:VTIMEZONE
BEGIN:VEVENT
UID:188-42
DTSTAMP:20260424T155204Z
SUMMARY:First-Year Faculty Union Workshop/Office Hour
LOCATION:https://lrccd.zoom.us/j/87611496788
ORGANIZER;CN=Robyn Waxman:MAILTO:waxmanr@scc.losrios.edu
DTSTART;TZID=America/Los_Angeles:20260409T150000
DTEND;TZID=America/Los_Angeles:20260409T160000
X-ALT-DESC;FMTTYPE=TEXT/HTML:Drey and Rebecca will host a session focused o
 n supporting first-year faculty. We’re hoping to turn this into an ongoi
 ng series\, including future sessions for West Sac/Davis faculty. https://
 lrccd.zoom.us/j/87611496788
CATEGORIES:General
URL;VALUE=URI:https://www.lrcft.org/mc-events/first-year-faculty-union-work
 shop-office-hour/
METHOD:PUBLISH
END:VEVENT
END:VCALENDAR